BEGIN:VCALENDAR
VERSION:2.0
PRODID:-//hacksw/handcal//NONSGML v1.0//EN
CALSCALE:GREGORIAN
BEGIN:VEVENT
ORGANIZER;CN=Twist Bioscience:MAILTO:no-reply@mail.gcs-web.com
DTEND:
UID:f552271a-49cb-4bdc-bb4d-ee8b7446de7d
DTSTAMP:1776953683
LOCATION:https://edge.media-server.com/mmc/p/f6htr3dv/
DESCRIPTION:Event Details https://investors.twistbioscience.com/events/event-details/twist-bioscience-investor-day-2026\n\nWebcast: https://edge.media-server.com/mmc/p/f6htr3dv/
URL;VALUE=URI:https://edge.media-server.com/mmc/p/f6htr3dv/
SUMMARY:Twist Bioscience - Twist Bioscience Investor Day 2026
DTSTART:20260521T180000Z
END:VEVENT
END:VCALENDAR